BEGIN:VCALENDAR
VERSION:2.0
METHOD:PUBLISH
BEGIN:VEVENT
DTSTART:20240928T210000
DTEND:20240928T210000
LOCATION:Polsat Plus Arena Gdańsk Pokoleń Lechii Gdańsk 1  Gdańsk
TRANSP: OPAQUE
SEQUENCE:0
UID:
DTSTAMP:20260423T084818Z
SUMMARY:#BeActive Night w ramach Europejskiego Tygodnia Sportu
DESCRIPTION:Zapraszamy na #BeActive Night w ramach Europejskiego Tygodnia Sportu, który w tym roku gości na Polsat Plus Arena Gdańsk. Zachęcamy do zapisów na bezpłatne aktywności, które odbędą się......
URL:https://app.evenea.pl/event/898516-1/
PRIORITY:1
CLASS:PUBLIC
END:VEVENT
END:VCALENDAR
