BEGIN:VCALENDAR
VERSION:2.0
METHOD:PUBLISH
BEGIN:VEVENT
DTSTART:20250408T110000
DTEND:20250408T130000
LOCATION:Wydział Budownictwa, Architektury i Inżynierii Środowiska, Politechnika Bydgoska   
TRANSP: OPAQUE
SEQUENCE:0
UID:
DTSTAMP:20260423T095810Z
SUMMARY:Wykład z Geze Polska
DESCRIPTION:WYKŁAD BRANŻOWY Z FIRMĄ GEZE POLSKAWydział Budownictwa, Architektury i Inżynierii ŚrodowiskaPolitechnika Bydgoska8 KWIETNIA 2025, godz. 11.00Wykład obędzie się w ramach ogólnopolskiego......
URL:https://app.evenea.pl/event/899398-21/
PRIORITY:1
CLASS:PUBLIC
END:VEVENT
END:VCALENDAR
