BEGIN:VCALENDAR
VERSION:2.0
METHOD:PUBLISH
BEGIN:VEVENT
DTSTART:20250507T153000
DTEND:20250507T173000
LOCATION:Wydział Budownictwa i Architektury Politechniki Świętokrzyskiej   
TRANSP: OPAQUE
SEQUENCE:0
UID:
DTSTAMP:20260422T182037Z
SUMMARY:WARSZTATY BIM - ARKANCE POLAND
DESCRIPTION:WARSZTATY BIM - 7 MAJA 2025 R., GODZ. 15.30 - 17.30Politechnika Świętokrzyska Wydział Budownictwa i ArchitekturyWarsztaty BIM zostały przygotowane przez partnera Programu Builder for the Young......
URL:https://app.evenea.pl/event/899398-25/
PRIORITY:1
CLASS:PUBLIC
END:VEVENT
END:VCALENDAR
