BEGIN:VCALENDAR
VERSION:2.0
METHOD:PUBLISH
BEGIN:VEVENT
DTSTART:20250612T081500
DTEND:20250612T101500
LOCATION:Wydział Architektury Politechniki Śląskiej ul. Akademicka 7, Gliwice, Sala 402 (IV p.)   
TRANSP: OPAQUE
SEQUENCE:0
UID:
DTSTAMP:20260423T153103Z
SUMMARY:WYKŁAD BRANŻOWY Z FIRMĄ GEZE POLSKA
DESCRIPTION:WYKŁAD BRANŻOWY Z FIRMĄ GEZE POLSKA - ZAPRASZAMY!Wydział Architektury Politechniki Śląskiejul. Akademicka 7, Gliwice, Sala 402 (IV p.)12 CZERWCA 2025, godz. 8.15Wykład obędzie się w ramach......
URL:https://app.evenea.pl/event/899398-28/
PRIORITY:1
CLASS:PUBLIC
END:VEVENT
END:VCALENDAR
