BEGIN:VCALENDAR
VERSION:2.0
METHOD:PUBLISH
BEGIN:VEVENT
DTSTART:20260312T120000
DTEND:20260312T120000
LOCATION:Wydział Architektury , Budownictwa i Sztuk Stosowanych AKADEMIA ŚLĄSKA   
TRANSP: OPAQUE
SEQUENCE:0
UID:
DTSTAMP:20260422T105347Z
SUMMARY:WARSZTATY BRANŻOWE Z FIRMĄ H+H POLSKA
DESCRIPTION:WARSZTATY BRANŻOWE Z FIRMĄ H+H POLSKA12 marca 2026 (czwartek), godz. 12.00AKADEMIA ŚLĄSKA, Wydział Architektury, Budownictwa i Sztuk Stosowanych ul. Rolna 43, Katowice, sala B401, 4 p.......
URL:https://app.evenea.pl/event/899398-33/
PRIORITY:1
CLASS:PUBLIC
END:VEVENT
END:VCALENDAR
