BEGIN:VCALENDAR
VERSION:2.0
METHOD:PUBLISH
BEGIN:VEVENT
DTSTART:20241121T090000
DTEND:20241121T130000
LOCATION:   
TRANSP: OPAQUE
SEQUENCE:0
UID:
DTSTAMP:20260424T010324Z
SUMMARY:DZIEŃ MŁODEGO INŻYNIERA
DESCRIPTION:DZIEŃ MŁODEGO INŻYNIERA - 21 LISTOPADA 2024Już 21 listopada (czwartek) na Wydziale Budownictwa i Architektury Politechniki Lubelskiej odbędzie się "Dzień Młodego Inżyniera". Wydarzenie......
URL:https://app.evenea.pl/event/899398-6/
PRIORITY:1
CLASS:PUBLIC
END:VEVENT
END:VCALENDAR
