BEGIN:VCALENDAR
VERSION:2.0
METHOD:PUBLISH
BEGIN:VEVENT
DTSTART:20241113T120000
DTEND:20241113T120000
LOCATION:Pałac Polanka ul. ks. J. Popiełuszki 103  Krosno
TRANSP: OPAQUE
SEQUENCE:0
UID:
DTSTAMP:20260419T164217Z
SUMMARY:VI Forum Gospodarcze w Krośnie pn. Wsparcie dla przedsiębiorców - inwestycje i ekspansja na rynki międzynarodowe
DESCRIPTION:Prezydent Miasta Krosna Piotr Przytocki oraz Polska Agencja Inwestycji i Handlu serdecznie zapraszają na VI Forum Gospodarcze w Krośnie pn. Wsparcie dla przedsiębiorców - inwestycje i ekspansja......
URL:https://app.evenea.pl/event/899573-1/
PRIORITY:1
CLASS:PUBLIC
END:VEVENT
END:VCALENDAR
