BEGIN:VCALENDAR
VERSION:2.0
METHOD:PUBLISH
BEGIN:VEVENT
DTSTART:20250720T130000
DTEND:20250720T130000
LOCATION:   
TRANSP: OPAQUE
SEQUENCE:0
UID:
DTSTAMP:20260423T182402Z
SUMMARY:Kolory natury - Warsztaty malowania barwnikami roślinnymi
DESCRIPTION:Warsztat pozyskiwania barwników z roślin oraz malowania własną roślinną farbą - na papierze (lub na tkaninie). Jakie kolory kryją w sobie warzywa i kwiaty? Czy barwa zawsze jest taka sama......
URL:https://app.evenea.pl/event/899847-40/
PRIORITY:1
CLASS:PUBLIC
END:VEVENT
END:VCALENDAR
