BEGIN:VCALENDAR
VERSION:2.0
METHOD:PUBLISH
BEGIN:VEVENT
DTSTART:20250424T111500
DTEND:20250424T144500
LOCATION:Gmach Instytutu Techniki Cieplnej, ul. Nowowiejska 21/25, sala TD 1.01   
TRANSP: OPAQUE
SEQUENCE:0
UID:
DTSTAMP:20260420T070543Z
SUMMARY:#zawszeciekawi: Wydział Mechaniczny Energetyki i Lotnictwa - 24 kwietnia, godz. 11.15-14.45
DESCRIPTION:Program:11.15-11.45 - Prezentacja "Poznajcie Politechnikę Warszawską!" 11.45-12.10 - Wykład "Rzeka ogrzeje miasto - przyszłość ciepłownictwa czy ekologiczne nieporozumienie?" 12.10-12.30 -......
URL:https://app.evenea.pl/event/901037-17/
PRIORITY:1
CLASS:PUBLIC
END:VEVENT
END:VCALENDAR
