BEGIN:VCALENDAR
VERSION:2.0
METHOD:PUBLISH
BEGIN:VEVENT
DTSTART:20250430T083000
DTEND:20250430T120000
LOCATION:Gmach Inżynierii Środowiska, ul. Nowowiejska 20   
TRANSP: OPAQUE
SEQUENCE:0
UID:
DTSTAMP:20260420T071256Z
SUMMARY:#zawszeciekawi: Wydział Instalacji Budowlanych, Hydrotechniki i Inżynierii Środowiska - 30 kwietnia, godz. 8.30-12.00
DESCRIPTION:Program:8.30-9.00 - Prezentacja "Poznajcie Politechnikę Warszawską!" 9.00-9.15 - Wystąpienie Dziekana Wydziału 9.15-9.50 - Wykład "Krąg życia" 10.00-12.00 - Warsztaty w laboratoriach:......
URL:https://app.evenea.pl/event/901037-18/
PRIORITY:1
CLASS:PUBLIC
END:VEVENT
END:VCALENDAR
