BEGIN:VCALENDAR
VERSION:2.0
METHOD:PUBLISH
BEGIN:VEVENT
DTSTART:20250507T090000
DTEND:20250507T153000
LOCATION:Gmach Główny, pl. Politechniki 1, s. 315   
TRANSP: OPAQUE
SEQUENCE:0
UID:
DTSTAMP:20260422T103100Z
SUMMARY:#zawszeciekawi: Wydział Geodezji i Kartografii - 7 maja, godz. 9.00-15.30
DESCRIPTION:Program:9.00-9.10 - Przywitanie przez przedstawiciela Władz Wydziału 9.10-9.40 - Prezentacja "Poznajcie Politechnikę Warszawską!" 9.45-10.15 - Wykład "Geodezja jako nauka o zmieniającej się......
URL:https://app.evenea.pl/event/901037-19/
PRIORITY:1
CLASS:PUBLIC
END:VEVENT
END:VCALENDAR
