BEGIN:VCALENDAR
VERSION:2.0
METHOD:PUBLISH
BEGIN:VEVENT
DTSTART:20250610T110000
DTEND:20250610T130000
LOCATION:Gmach Nowy Technologiczny, ul. Narbutta 85, s. 242   
TRANSP: OPAQUE
SEQUENCE:0
UID:
DTSTAMP:20260420T070544Z
SUMMARY:#zawszeciekawi: Wydział Zarządzania - blok I  - 10 czerwca, godz. 11.00-13.00
DESCRIPTION:Program:11.00-11.10 - Czym zajmujemy się na Wydziale Zarządzania 11.10-11.30 - Prezentacja "Poznajcie Politechnikę Warszawską!" 11.30-13.00 - Wykład "Nie tylko liczby - jak finansowa wiedza......
URL:https://app.evenea.pl/event/901037-23/
PRIORITY:1
CLASS:PUBLIC
END:VEVENT
END:VCALENDAR
