BEGIN:VCALENDAR
VERSION:2.0
METHOD:PUBLISH
BEGIN:VEVENT
DTSTART:20250610T110000
DTEND:20250610T121500
LOCATION:Gmach Nowy Technologiczny, ul. Narbutta 85, s. 242 i s. 102   
TRANSP: OPAQUE
SEQUENCE:0
UID:
DTSTAMP:20260422T103120Z
SUMMARY:#zawszeciekawi: Wydział Zarządzania - blok II  - 10 czerwca, godz. 11.00-12.15
DESCRIPTION:Program:11.00-11.10 - Czym zajmujemy się na Wydziale Zarządzania 11.10-11.30 - Prezentacja "Poznajcie Politechnikę Warszawską!" 11.30-12.15 - Wykład "Modelowanie symulacyjne systemów......
URL:https://app.evenea.pl/event/901037-24/
PRIORITY:1
CLASS:PUBLIC
END:VEVENT
END:VCALENDAR
