BEGIN:VCALENDAR
VERSION:2.0
METHOD:PUBLISH
BEGIN:VEVENT
DTSTART:20250508T101500
DTEND:20250508T120000
LOCATION:Gmach Matematyki, ul. Koszykowa 75, s. 328   
TRANSP: OPAQUE
SEQUENCE:0
UID:
DTSTAMP:20260420T070523Z
SUMMARY:#zawszeciekawi: Wydział Matematyki i Nauk Informacyjnych - 8 maja, godz. 10.15-12.00
DESCRIPTION:Program: 10.15-10.35 Poznajmy PW - BKiP10:35-10:50 Michał Zwierzyński, O Wydziale MiNI10:35 - 12:00 Paulina Tomaszewska "Wprowadzenie do sztucznej inteligencji"Sieci neuronowe są fundamentem......
URL:https://app.evenea.pl/event/901037-2mini/
PRIORITY:1
CLASS:PUBLIC
END:VEVENT
END:VCALENDAR
