BEGIN:VCALENDAR
VERSION:2.0
METHOD:PUBLISH
BEGIN:VEVENT
DTSTART:20250408T100000
DTEND:20250408T144500
LOCATION:Gmach Elektrotechniki, ul. Koszykowa 75   
TRANSP: OPAQUE
SEQUENCE:0
UID:
DTSTAMP:20260420T070523Z
SUMMARY:#zawszeciekawi: Wydział Elektryczny - blok III - 8 kwietnia, godz. 10.00-14.45
DESCRIPTION:Program:10.00-10.30 - Prezentacja "Poznajcie Politechnikę Warszawską!" 10.30-10.45 - Prezentacja kierunków studiów Wydziału Elektrycznego PW 11.00-11:45 - Wykład "Czy komputery potrafią......
URL:https://app.evenea.pl/event/901037-7/
PRIORITY:1
CLASS:PUBLIC
END:VEVENT
END:VCALENDAR
