BEGIN:VCALENDAR
VERSION:2.0
METHOD:PUBLISH
BEGIN:VEVENT
DTSTART:20250603T110000
DTEND:20250603T200000
LOCATION:   
TRANSP: OPAQUE
SEQUENCE:0
UID:
DTSTAMP:20260424T151942Z
SUMMARY:Warsztat "Savoir-vivre w biznesie - czy to się liczy?"
DESCRIPTION:Odkryj, jak savoir-vivre może stać się Twoją przewagą w budowaniu relacji i osiąganiu sukcesów w biznesie. 🌟Czy w świecie szybkich decyzji i nowoczesnej komunikacji savoir-vivre ma......
URL:https://app.evenea.pl/event/901123-6/
PRIORITY:1
CLASS:PUBLIC
END:VEVENT
END:VCALENDAR
