BEGIN:VCALENDAR
VERSION:2.0
METHOD:PUBLISH
BEGIN:VEVENT
DTSTART:20250223T110000
DTEND:20250223T140000
LOCATION:Duży Pokój Miejsce Dobrostanu ul.Lakiernicza 20  Wrocław
TRANSP: OPAQUE
SEQUENCE:0
UID:
DTSTAMP:20260423T201343Z
SUMMARY:Czuję, bo potrzebuję - warsztat rozwojowy w kobiecym gronie o uWAŻNIANIU swoich potrzeb
DESCRIPTION:W codziennym pędzie trudno Ci zauważyć swoje potrzeby?Zawsze jest coś ważniejszego?Często czujesz się sfrustrowana, zmęczona, przytłoczona?Czujesz, że w Twoim życiu jest za mało miejsca......
URL:https://app.evenea.pl/event/901744-1/
PRIORITY:1
CLASS:PUBLIC
END:VEVENT
END:VCALENDAR
