BEGIN:VCALENDAR
VERSION:2.0
METHOD:PUBLISH
BEGIN:VEVENT
DTSTART:20260427T170000
DTEND:20260430T190000
LOCATION:Filia Zielona Podleśna 38  Warszawa Wesoła
TRANSP: OPAQUE
SEQUENCE:0
UID:
DTSTAMP:20260425T044601Z
SUMMARY:Wieczór Bajek na pastwisku w Bibliotece w Zielonej
DESCRIPTION:📖✨ Wieczór bajek na pastwisku w Bibliotece w Zielonej! Zapraszamy na wyjątkowe spotkanie wrażeń &lt;3To wyjątkowe spotkanie, podczas którego najmłodsi przeniosą się na wieś do......
URL:https://app.evenea.pl/event/902145-106/
PRIORITY:1
CLASS:PUBLIC
END:VEVENT
END:VCALENDAR
