BEGIN:VCALENDAR
VERSION:2.0
METHOD:PUBLISH
BEGIN:VEVENT
DTSTART:20251123T160000
DTEND:20251123T180000
LOCATION:Biblioteka pod Żółwiem ul. Świętego Ducha 111/113  Gdańsk
TRANSP: OPAQUE
SEQUENCE:0
UID:
DTSTAMP:20260425T031853Z
SUMMARY:TYlko relacJA: Warsztat technik ukojenia układu nerwowego
DESCRIPTION:TYlko relacJA: festiwal literacko-psychologiczny zamykamy warsztatem, którego celem jest skontaktowanie się z najważniejszą osobą na świecie - samym sobą. Żywimy wewnętrzne przekonanie,......
URL:https://app.evenea.pl/event/903381-7/
PRIORITY:1
CLASS:PUBLIC
END:VEVENT
END:VCALENDAR
