BEGIN:VCALENDAR
VERSION:2.0
METHOD:PUBLISH
BEGIN:VEVENT
DTSTART:20250605T090000
DTEND:20250605T090000
LOCATION:Urząd Marszałkowski Województwa Pomorskiego Augustyńskiego 1 (sala Niebo Polskie)  Gdańsk
TRANSP: OPAQUE
SEQUENCE:0
UID:
DTSTAMP:20260421T174446Z
SUMMARY:Obserwatorium Gospodarcze w dobie otwartych danych i AI
DESCRIPTION:Departament Rozwoju Gospodarczego Urzędu Marszałkowskiego Województwa Pomorskiego zaprasza na konferencję pn. Obserwatorium Gospodarcze w dobie otwartych danych i AI w ramach realizowanego......
URL:https://app.evenea.pl/event/904288-1/
PRIORITY:1
CLASS:PUBLIC
END:VEVENT
END:VCALENDAR
