BEGIN:VCALENDAR
VERSION:2.0
METHOD:PUBLISH
BEGIN:VEVENT
DTSTART:20250609T163000
DTEND:20250609T163000
LOCATION:Olivia Sky Club Grunwaldzka 472  Gdańsk
TRANSP: OPAQUE
SEQUENCE:0
UID:
DTSTAMP:20260423T212608Z
SUMMARY:Jak odnaleźć się w świecie finansów?
DESCRIPTION:🎤 O WYDARZENIUJak działa giełda? Co to jest budżet? Skąd się biorą pieniądze? Na te i wiele innych pytań odpowiedzą prelegenci podczas konferencji edukacyjnej przygotowanej przez......
URL:https://app.evenea.pl/event/904647-1/
PRIORITY:1
CLASS:PUBLIC
END:VEVENT
END:VCALENDAR
