BEGIN:VCALENDAR
VERSION:2.0
METHOD:PUBLISH
BEGIN:VEVENT
DTSTART:20251106T100000
DTEND:20251106T144500
LOCATION:Lubelskie Centrum Konferencyjne ul. Artura Grottgera 2  Lublin
TRANSP: OPAQUE
SEQUENCE:0
UID:
DTSTAMP:20260421T215231Z
SUMMARY:WSCHODNI FILAR EUROPY - PAKT ODPORNOŚCI
DESCRIPTION:olish Women Chamber of Commerce i Zamojskie Towarzystwo Rolnicze mają zaszczyt zaprosić Państwa do współpracy partnerskiej przy organizacji strategicznej konferencji: WSCHODNI FILAR EUROPY -......
URL:https://app.evenea.pl/event/904825-21/
PRIORITY:1
CLASS:PUBLIC
END:VEVENT
END:VCALENDAR
