BEGIN:VCALENDAR
VERSION:2.0
METHOD:PUBLISH
BEGIN:VEVENT
DTSTART:20260512T100000
DTEND:20260512T150000
LOCATION:Centrum Kreatywności Targowa 56  Warszawa
TRANSP: OPAQUE
SEQUENCE:0
UID:
DTSTAMP:20260422T161003Z
SUMMARY:III Kongres Biznes Odpowiedzialny Społecznie
DESCRIPTION:📅 Data: 12 maja 2026 r. 📍 Miejsce: Centrum Kreatywności Targowa - Warszawa 🎟️ Udział bezpłatnyIII Kongres Biznesu Odpowiedzialnego Społecznie - Twórzmy Przyszłość Razem!Polska......
URL:https://app.evenea.pl/event/905349-5/
PRIORITY:1
CLASS:PUBLIC
END:VEVENT
END:VCALENDAR
