BEGIN:VCALENDAR
VERSION:2.0
METHOD:PUBLISH
BEGIN:VEVENT
DTSTART:20251005T100000
DTEND:20251005T160000
LOCATION:Hotel Szyszko*** Innowacyjna 3  Suwałki
TRANSP: OPAQUE
SEQUENCE:0
UID:
DTSTAMP:20260423T061446Z
SUMMARY:Targi Ślubne w Hotelu Szyszko***
DESCRIPTION:Już 5 października w Hotelu Szyszko*** odbędą się Targi Ślubne - nie może Was tam zabraknąć! To wyjątkowa okazja dla wszystkich przyszłych Par Młodych, aby spotkać najlepszych......
URL:https://app.evenea.pl/event/905696-1/
PRIORITY:1
CLASS:PUBLIC
END:VEVENT
END:VCALENDAR
