BEGIN:VCALENDAR
VERSION:2.0
METHOD:PUBLISH
BEGIN:VEVENT
DTSTART:20251218T170000
DTEND:20251218T170000
LOCATION:Nadbużański Ośrodek Ekologiczny w Broku Szosowa 17  Brok
TRANSP: OPAQUE
SEQUENCE:0
UID:
DTSTAMP:20260425T174743Z
SUMMARY:Spotkanie z bliskością - 18 grudnia 17.00
DESCRIPTION:Zapraszamy do spotkania z bliskością i w bliskości. Napijemy się razem gorącej czekolady lub grzanego wina. Posłuchamy co Agnieszka Kozak mówi o bliskości i jak o nią zadbać w święta.......
URL:https://app.evenea.pl/event/907494-1/
PRIORITY:1
CLASS:PUBLIC
END:VEVENT
END:VCALENDAR
