BEGIN:VCALENDAR
VERSION:2.0
METHOD:PUBLISH
BEGIN:VEVENT
DTSTART:20251120T100000
DTEND:20251120T123000
LOCATION:Polska Agencja Prasowa ul. Bracka 6/8  Warszawa
TRANSP: OPAQUE
SEQUENCE:0
UID:
DTSTAMP:20260425T233130Z
SUMMARY:IAB Expert Panel: Attention - nowy standard pomiaru? Premiera raportu IAB Polska. Zapisz sie, by otrzymać nagranie.
DESCRIPTION:Uwaga. Limit miejsc na wydarzenie stacjonarne został wyczerpany. Możesz zapisać się na listę, by otrzymać nagranie z wydarzenia. Jeszcze niedawno "attention" było branżowym buzzwordem.......
URL:https://app.evenea.pl/event/907557-1/
PRIORITY:1
CLASS:PUBLIC
END:VEVENT
END:VCALENDAR
