BEGIN:VCALENDAR
VERSION:2.0
METHOD:PUBLISH
BEGIN:VEVENT
DTSTART:20251204T090000
DTEND:20251204T160000
LOCATION:HEVELIANUM Gradowa 6  Gdańsk
TRANSP: OPAQUE
SEQUENCE:0
UID:
DTSTAMP:20260421T103827Z
SUMMARY:Pomorskie Forum Solidarności Klimatycznej im. Pawła Adamowicza 4.12.2025r.
DESCRIPTION:Zobacz PROGRAM FORUM...
URL:https://app.evenea.pl/event/907756-1/
PRIORITY:1
CLASS:PUBLIC
END:VEVENT
END:VCALENDAR
