BEGIN:VCALENDAR
VERSION:2.0
METHOD:PUBLISH
BEGIN:VEVENT
DTSTART:20251205T190000
DTEND:20251205T190000
LOCATION:Kolonia Artystów Aleja Grunwaldzka 51  Gdańsk
TRANSP: OPAQUE
SEQUENCE:0
UID:
DTSTAMP:20260420T174822Z
SUMMARY:Projekcja filmu "Też kiedyś byłam harcerką" Kolonia Artystów
DESCRIPTION:𝗣𝗥𝗢𝗝𝗘𝗞𝗖𝗝𝗔 𝗙𝗜𝗟𝗠𝗨 "𝗧𝗲ż 𝗸𝗶𝗲𝗱𝘆ś 𝗯𝘆ł𝗮𝗺 𝗵𝗮𝗿𝗰𝗲𝗿𝗸ą" + dyskusja Zapraszamy na projekcję filmu "Też......
URL:https://app.evenea.pl/event/908276-4/
PRIORITY:1
CLASS:PUBLIC
END:VEVENT
END:VCALENDAR
