BEGIN:VCALENDAR
VERSION:2.0
METHOD:PUBLISH
BEGIN:VEVENT
DTSTART:20260205T170000
DTEND:20260205T170000
LOCATION:Hotel Blue Diamond Nowa Wieś 414  Trzebownisko
TRANSP: OPAQUE
SEQUENCE:0
UID:
DTSTAMP:20260420T150723Z
SUMMARY:Spotkanie biznesowe
DESCRIPTION:🚀 Biznes, samorząd i bezpieczeństwo - lutowe spotkanie naszej Izby! 🚀W czwartek, 5 lutego, zapraszamy na kolejne spotkanie Podkarpackiego Samorządu Gospodarczego 🤝📍 Hotel Blue......
URL:https://app.evenea.pl/event/909367-1/
PRIORITY:1
CLASS:PUBLIC
END:VEVENT
END:VCALENDAR
