BEGIN:VCALENDAR
VERSION:2.0
METHOD:PUBLISH
BEGIN:VEVENT
DTSTART:20260228T160000
DTEND:20260228T180000
LOCATION: Towarowa 1 lokal 4, wejście od ulicy Przemysłowej  Olsztyn
TRANSP: OPAQUE
SEQUENCE:0
UID:
DTSTAMP:20260420T004038Z
SUMMARY:ROK SIOSTRZEŃSTWA - WARSZTATY Z PSYCHODIETETYKI
DESCRIPTION:"Rok Siostrzeństwa 2026" to inicjatywa, której celem jest budowanie trwałej, wspierającej wspólnoty opartej na zaufaniu, empatii i solidarności. To zaproszenie do większej uważności na......
URL:https://app.evenea.pl/event/909585-1/
PRIORITY:1
CLASS:PUBLIC
END:VEVENT
END:VCALENDAR
