BEGIN:VCALENDAR
VERSION:2.0
METHOD:PUBLISH
BEGIN:VEVENT
DTSTART:20260416T163000
DTEND:20260416T180000
LOCATION:Szkoła Podstawowa nr 1 im. Kardynała Bolesława Kominka w Kątach Wrocławskich ul. 1 Maja 59  55-080 Kąty Wrocławskie
TRANSP: OPAQUE
SEQUENCE:0
UID:
DTSTAMP:20260425T170107Z
SUMMARY:"Różnorodny kuferek zasobów i emocji" - Trening umiejętności społecznych dla nastolatków (12-19 lat)
DESCRIPTION:Trening umiejętności społecznych dla nastolatków (12-19 lat) "Różnorodny kuferek zasobów i emocji"Czas trwania: 90 minutOdbiorcy: nastolatkowie w wieku 12-19 latOpis warsztatu:Te zajęcia,......
URL:https://app.evenea.pl/event/910139-13/
PRIORITY:1
CLASS:PUBLIC
END:VEVENT
END:VCALENDAR
