BEGIN:VCALENDAR
VERSION:2.0
METHOD:PUBLISH
BEGIN:VEVENT
DTSTART:20260415T163000
DTEND:20260415T180000
LOCATION:Szkoła Podstawowa nr 2 im. Janusza Korczaka w Kątach Wrocławskich Brzozowa 6  Kąty Wrocławskie
TRANSP: OPAQUE
SEQUENCE:0
UID:
DTSTAMP:20260425T170107Z
SUMMARY:Jak rozpoznać kryzys psychiczny u dziecka ? - warsztaty dla rodziców i opiekunów prawnych
DESCRIPTION:Warsztaty: Jak rozpoznać kryzys u dziecka?Czas trwania: 90 minutOdbiorcy: rodzice i opiekunowie prawni dzieci szkolnych i młodzieżyOpis warsztatu Podczas warsztatu uczestnicy dowiedzą się, jak......
URL:https://app.evenea.pl/event/910139-3/
PRIORITY:1
CLASS:PUBLIC
END:VEVENT
END:VCALENDAR
