BEGIN:VCALENDAR
VERSION:2.0
METHOD:PUBLISH
BEGIN:VEVENT
DTSTART:20260515T180000
DTEND:20260515T193000
LOCATION:Sala widowiskowa w Konarzewie Poznańska 19a  Konarzewo
TRANSP: OPAQUE
SEQUENCE:0
UID:
DTSTAMP:20260424T162903Z
SUMMARY:Muzyczne Zoo - Teatr Katarynka
DESCRIPTION:Zapraszamy na musicalową opowieść dla najmłodszych o historii nawiązania przyjaźni małpki Eli i słonika Trąbonika. Spektakl uczy, że trudności pokonuje się wspólnymi siłami.......
URL:https://app.evenea.pl/event/910395-1/
PRIORITY:1
CLASS:PUBLIC
END:VEVENT
END:VCALENDAR
