BEGIN:VCALENDAR
VERSION:2.0
METHOD:PUBLISH
BEGIN:VEVENT
DTSTART:20260508T180000
DTEND:20260508T180000
LOCATION:Sala Widowiskowa w Konarzewie Poznańska 19a  Konarzewo
TRANSP: OPAQUE
SEQUENCE:0
UID:
DTSTAMP:20260424T162844Z
SUMMARY:Koncert Zosi Karbowiak z zespołem MIØD
DESCRIPTION:Koncert Zosi Karbowiak z zespołem MIØDZoSia Karbowiak i MIØD to trio składające się z profesjonalnych i cenionych artystów muzyków scenicznych i studyjnych. W repertuarze zespołu znajdują......
URL:https://app.evenea.pl/event/910395-3/
PRIORITY:1
CLASS:PUBLIC
END:VEVENT
END:VCALENDAR
