BEGIN:VCALENDAR
VERSION:2.0
METHOD:PUBLISH
BEGIN:VEVENT
DTSTART:20260519T080000
DTEND:20260519T080000
LOCATION:Rojam Safety Center Geodetów 11  Gdańsk
TRANSP: OPAQUE
SEQUENCE:0
UID:
DTSTAMP:20260420T181327Z
SUMMARY:5. edycja SAFETY DAY - Dzień Bezpieczeństwa
DESCRIPTION:Zapraszamy na 5. edycję SAFETY DAY - Dnia Bezpieczeństwa, wydarzenia, które na stałe wpisało się w kalendarz branży BHP oraz specjalistów pracujących na wysokości.Tegoroczna edycja......
URL:https://app.evenea.pl/event/910495-1/
PRIORITY:1
CLASS:PUBLIC
END:VEVENT
END:VCALENDAR
