BEGIN:VCALENDAR
VERSION:2.0
METHOD:PUBLISH
BEGIN:VEVENT
DTSTART:20260514T090000
DTEND:20260514T120000
LOCATION:Wydział Nawigacyjny Uniwersytetu Morskiego w Gdyni al. Jana Pawła II 3, 81-345  Gdynia
TRANSP: OPAQUE
SEQUENCE:0
UID:
DTSTAMP:20260423T012913Z
SUMMARY:Dzień Otwarty UMG na Wydziale Nawigacyjnym w Gdyni
DESCRIPTION:⚓️ AHOY PRZYGODO! ZOBACZ, JAK WYGLĄDA STUDIOWANIE NA FALI! 🌊Marzysz o dowodzeniu wielkim statkiem? A może chcesz zarządzać transportem krajowym? Interesują Cię nowoczesne technologie i......
URL:https://app.evenea.pl/event/911320-2/
PRIORITY:1
CLASS:PUBLIC
END:VEVENT
END:VCALENDAR
