BEGIN:VCALENDAR
VERSION:2.0
METHOD:PUBLISH
BEGIN:VEVENT
DTSTART:20240622T084500
DTEND:20240622T140000
LOCATION:Centrum Rozwoju Inicjatyw Społecznych CRIS Rudzka 13C  Rybnik
TRANSP: OPAQUE
SEQUENCE:0
UID:
DTSTAMP:20260424T140513Z
SUMMARY:ABC członka zarządu - organizacja zarejestrowana i co dalej?
DESCRIPTION:Najważniejsze akty prawne regulujące działania organizacji pozarządowych, obowiązki sprawozdawcze oraz narzędzia ułatwiające zarządzanie - o tym wszystkim dowiecie się podczas szkolenia......
URL:https://app.evenea.pl/event/abc-szkolenie-1/
PRIORITY:1
CLASS:PUBLIC
END:VEVENT
END:VCALENDAR
