BEGIN:VCALENDAR
VERSION:2.0
METHOD:PUBLISH
BEGIN:VEVENT
DTSTART:20230418T090000
DTEND:20230418T130000
LOCATION:inQUBE Wielka 67  Wrocław
TRANSP: OPAQUE
SEQUENCE:0
UID:
DTSTAMP:20260423T134511Z
SUMMARY:ABC zakładania i prowadzenia własnej firmy - warsztaty
DESCRIPTION:Zapraszamy na darmowe warsztaty z zakładania i prowadzenia własnej działalności gospodarczej, które odbędą się 18.04 w inQUBE.Celem spotkania jest poznanie różnych aspektów podejmowania......
URL:https://app.evenea.pl/event/abcprowadzeniafirmy/
PRIORITY:1
CLASS:PUBLIC
END:VEVENT
END:VCALENDAR
