BEGIN:VCALENDAR
VERSION:2.0
METHOD:PUBLISH
BEGIN:VEVENT
DTSTART:20250801T180000
DTEND:20250831T190000
LOCATION:Kolonia aleja grunwaldzka 51  Gdańsk
TRANSP: OPAQUE
SEQUENCE:0
UID:
DTSTAMP:20260422T044542Z
SUMMARY:Abul Mogard | Czarny Pokój
DESCRIPTION:Abul Mogard | Czarny Pokój Premiera: 01.08.2025 | g. 18:00 - 22:00Czas trwania: 01-31.08.2025 | g. 19:00Kolonia | Aleja Grunwaldzka 51 | 80-241 Gdańsk Wrzeszcz. Zapraszamy na premierę instalacji......
URL:https://app.evenea.pl/event/abulmogard/
PRIORITY:1
CLASS:PUBLIC
END:VEVENT
END:VCALENDAR
