BEGIN:VCALENDAR
VERSION:2.0
METHOD:PUBLISH
BEGIN:VEVENT
DTSTART:20211008T173000
DTEND:20211010T140000
LOCATION:OsiemPrzezDwa ul. Jazdów 8/2  Warszawa
TRANSP: OPAQUE
SEQUENCE:0
UID:
DTSTAMP:20260423T025229Z
SUMMARY:Warsztat pedagogiki przygody "Adventus"
DESCRIPTION:Serdecznie zapraszamy na kolejną edycję warsztatów pedagogiki przygody "Adventus#15".Gdzie?OsiemPrzezDwa, ul. Jazdów 8/2, WarszawaKiedy?8-10 października 2021Dla kogo?Zapraszamy nauczycieli,......
URL:https://app.evenea.pl/event/adventus15/
PRIORITY:1
CLASS:PUBLIC
END:VEVENT
END:VCALENDAR
