BEGIN:VCALENDAR
VERSION:2.0
METHOD:PUBLISH
BEGIN:VEVENT
DTSTART:20260321T130000
DTEND:20260321T160000
LOCATION:Zespół Hal Targowych- podziemia Hali Łukowej Pracownia Ekhada Art box 522 Wójta Radtkego 36 - wejście od ul. 3 Maja  81-355 Gdynia
TRANSP: OPAQUE
SEQUENCE:0
UID:
DTSTAMP:20260425T054920Z
SUMMARY:Warsztaty "AfirmaCja: Zdrowie, Miłość i Uroda - Biżuteria z Energią" realizowane we współpracy z Pracownią Ekhada Art
DESCRIPTION:Czy noszenie odpowiedniej biżuterii może wpływać na zdrowie, miłość i urodę? Odpowiednio dobrane kamienie szlachetne i metale mogą wspierać wewnętrzne pole energetyczne, równowagę......
URL:https://app.evenea.pl/event/afirmacja/
PRIORITY:1
CLASS:PUBLIC
END:VEVENT
END:VCALENDAR
