BEGIN:VCALENDAR
VERSION:2.0
METHOD:PUBLISH
BEGIN:VEVENT
DTSTART:20241203T100000
DTEND:20241204T083000
LOCATION:Wydział Informatyki AGH ul. Kawiory 21, Budynek D-17  30-055 Kraków
TRANSP: OPAQUE
SEQUENCE:0
UID:
DTSTAMP:20260419T160151Z
SUMMARY:AGH Cyber Kampus 2.0
DESCRIPTION:Organizatorzy:📣 W tym roku zapraszamy Was na dwudniowe wydarzenie, które odbędzie się w dniach 3-4 grudnia na Wydziale Informatyki AGH! Sprawdźcie, co przygotowaliśmy:3 grudnia - wtorek -......
URL:https://app.evenea.pl/event/agh-cyber-kampus/
PRIORITY:1
CLASS:PUBLIC
END:VEVENT
END:VCALENDAR
