BEGIN:VCALENDAR
VERSION:2.0
METHOD:PUBLISH
BEGIN:VEVENT
DTSTART:20200610T200000
DTEND:20200610T210000
LOCATION:Agrii Polska   
TRANSP: OPAQUE
SEQUENCE:0
UID:
DTSTAMP:20260423T231115Z
SUMMARY:AGRII DEMO 2020 - “MIEDŹ czy MIEĆ" - co z bezpieczeństwem zabiegów miedzią po kwitnieniu w jabłoni".
DESCRIPTION:++ AGRII DEMO 2020 - "MIEDŹ czy MIEĆ" - co z bezpieczeństwem zabiegów miedzią po kwitnieniu w jabłoni".Profesjonalne webinarium dla rolników i o rolnictwie, w ramach projektu AGRII DEMO. To......
URL:https://app.evenea.pl/event/agriidemomiedz/
PRIORITY:1
CLASS:PUBLIC
END:VEVENT
END:VCALENDAR
