BEGIN:VCALENDAR
VERSION:2.0
METHOD:PUBLISH
BEGIN:VEVENT
DTSTART:20251015T173000
DTEND:20251015T223000
LOCATION:Google For Startups Campus Plac Konesera 10  Warszawa
TRANSP: OPAQUE
SEQUENCE:0
UID:
DTSTAMP:20260420T144316Z
SUMMARY:👾 AI-Agents Meetup: Ū Hub х Techspot
DESCRIPTION:AI agents are everywhere — in headlines, pitch decks, and bar conversations. But behind the hype, one question remains: how do you actually make them work?At AI-Agents Meetup, industry leaders,......
URL:https://app.evenea.pl/event/ai-agents/
PRIORITY:1
CLASS:PUBLIC
END:VEVENT
END:VCALENDAR
