BEGIN:VCALENDAR
VERSION:2.0
METHOD:PUBLISH
BEGIN:VEVENT
DTSTART:20230424T180000
DTEND:20230424T180000
LOCATION:Techie's Na Zjeździe 11  Kraków
TRANSP: OPAQUE
SEQUENCE:0
UID:
DTSTAMP:20260425T195612Z
SUMMARY:SOLD OUT | Are we all fired? ChatGPT and the future of software development with Artificial Intelligence | Codete x Futurice Meetup at Techie's
DESCRIPTION:Join us on April 24th at Codete's resto-bar Techie's for a unique event dedicated to AI's role in developers' careers:Are we all fired? ChatGPT and the future of software development with......
URL:https://app.evenea.pl/event/ai-meetup-krk/
PRIORITY:1
CLASS:PUBLIC
END:VEVENT
END:VCALENDAR
