BEGIN:VCALENDAR
VERSION:2.0
METHOD:PUBLISH
BEGIN:VEVENT
DTSTART:20231018T173000
DTEND:20231018T173000
LOCATION:Techie's Na Zjeździe 11  Kraków
TRANSP: OPAQUE
SEQUENCE:0
UID:
DTSTAMP:20260420T174658Z
SUMMARY:AI in Medicine # 2 | The Future of Cerebral Palsy Detection | Codete x Sano Meetup
DESCRIPTION:TECH MEETS MEDICINE: The Future of Cerebral Palsy Detection | Codete x Sano Meetup 🧠Get ready to be enthralled at the intersection of technology and medicine! 💡 Ever wondered how early......
URL:https://app.evenea.pl/event/ai-sano-codete/
PRIORITY:1
CLASS:PUBLIC
END:VEVENT
END:VCALENDAR
