BEGIN:VCALENDAR
VERSION:2.0
METHOD:PUBLISH
BEGIN:VEVENT
DTSTART:20191128T170000
DTEND:20191128T200000
LOCATION:Zakład Systemów Złożonych Marie Curie-Skłodowskiej 8/2  Rzeszów
TRANSP: OPAQUE
SEQUENCE:0
UID:
DTSTAMP:20260421T174140Z
SUMMARY:Wprowadzenie do Sztucznej Inteligencji
DESCRIPTION:Polskie Towarzystwo Informatyczne Oddział Podkarpacki, Zakład Systemów Złożonych Politechniki Rzeszowskiej oraz Koło Naukowe Elektroniki i Technologii Informacyjnych &amp; Rzeszowska Grupa IT......
URL:https://app.evenea.pl/event/ai-workshop/
PRIORITY:1
CLASS:PUBLIC
END:VEVENT
END:VCALENDAR
