BEGIN:VCALENDAR
VERSION:2.0
METHOD:PUBLISH
BEGIN:VEVENT
DTSTART:20200625T173000
DTEND:20200625T191000
LOCATION:Spotkanie zdalne - na dwie godziny przed wydarzeniem wszystkie zarejestrowane osoby otrzymają dane dostępowe (adres WWW oraz hasło)   
TRANSP: OPAQUE
SEQUENCE:0
UID:
DTSTAMP:20260421T060251Z
SUMMARY:AI Bay: spotkanie klubu Zatoka Sztucznej Inteligencji
DESCRIPTION:Klub AI Bay - Zatoka Sztucznej Inteligencji oraz hub cyfrowych innowacji DIH4.AI zapraszają na kolejne wydarzenie z cyklem ciekawych wykładów. Spotkanie odbędzie się w formie zdalnej, dnia 25......
URL:https://app.evenea.pl/event/aibay-06-2020/
PRIORITY:1
CLASS:PUBLIC
END:VEVENT
END:VCALENDAR
