BEGIN:VCALENDAR
VERSION:2.0
METHOD:PUBLISH
BEGIN:VEVENT
DTSTART:20200118T090000
DTEND:20200119T160000
LOCATION:Gdansk Science and Technology Park Trzy Lipy 3, 80-172  Gdańsk
TRANSP: OPAQUE
SEQUENCE:0
UID:
DTSTAMP:20260419T205557Z
SUMMARY:AI Games
DESCRIPTION:Ai Games is an artificial intelligence and technology event that will take place on 17-19.01.2020 in Gdańsk Science and Technology Park.Our goal is to gather 200 most talented AI and machine......
URL:https://app.evenea.pl/event/aigames/
PRIORITY:1
CLASS:PUBLIC
END:VEVENT
END:VCALENDAR
