BEGIN:VCALENDAR
VERSION:2.0
METHOD:PUBLISH
BEGIN:VEVENT
DTSTART:20201007T110000
DTEND:20201104T130000
LOCATION:Webinarium On-line  
TRANSP: OPAQUE
SEQUENCE:0
UID:
DTSTAMP:20260421T152755Z
SUMMARY:Akademia kompetencji niezbędnych w realizowaniu zdalnych usług rozwojowych  - seria webinariów
DESCRIPTION:\n\n	W imieniu\n\nPolskiej Izby Firm Szkoleniowych\n\n	Lidera projektu "Rada ds. Kompetencji Sektora Usług Rozwojowych"\n\n\n\n	oraz\n\n	Fundacji Digital Creators\n\n	zapraszamy do udziału w......
URL:https://app.evenea.pl/event/akademia-kompetencji-2020/
PRIORITY:1
CLASS:PUBLIC
END:VEVENT
END:VCALENDAR
